BEGIN:VCALENDAR
VERSION:2.0
PRODID:-//hacksw/handcal//NONSGML v1.0//EN
CALSCALE:GREGORIAN
BEGIN:VTIMEZONE
TZID:America/New_York
BEGIN:DAYLIGHT
TZOFFSETFROM:-0600
TZNAME:MDT
TZOFFSETTO:-0600
END:DAYLIGHT
END:VTIMEZONE
DTSTAMP:20260421T044705Z
UID:69e73989444cf
BEGIN:VEVENT
LOCATION:Shelby County Public Library, 309 Eighth Street, Shelbyville, KY US 40065
DESCRIPTION:<p>Love art and the vibe of fall? In this creative workshop, you'll take famous works of art—think Van Gogh, Monet, and more—and totally reimagine them with your own Halloween or autumn twist. Turn peaceful scenes into haunted landscapes, or add falling leaves, pumpkins, and warm fall colors to create a cozy autumn masterpiece.<br>You'll learn how to remix classic art using cool painting techniques, mood-setting colors, and your own creative ideas. Want to add a ghost to a Monet Garden? Or put skeletons in a ballroom scene? Go for it.</p><p><strong>Registration Required&nbsp;</strong></p>
DTSTART;TZID=America/New_York:20251016T163000
DTEND;TZID=America/New_York:20251016T173000
SUMMARY:ART REMIX: Classic paintings with a spooky or cozy twist
URL;VALUE=URI:/art-remix-classic-paintings-spooky-or-cozy-twist-0
END:VEVENT
END:VCALENDAR